BEGIN:VCALENDAR
VERSION:2.0
PRODID:-//eventon.com NONSGML v1.0//EN
BEGIN:VEVENT
UID:69e73e5f00be0
DTSTAMP:20260421T090743
DTSTART:20170316
DTEND:20170318
TZID:UTC
LOCATION:Grenoble Grenoble\,  France
SUMMARY:12ème Journée mondiale de la trisomie 2
DESCRIPTION: https://arist.asso.fr/journees-mondiales-de-la-trisomie-2017-grenoble\nhttps://www.t21rs.org/events/12eme-journee-mondiale-de-la-trisomie-2/
URL:https://www.t21rs.org/events/12eme-journee-mondiale-de-la-trisomie-2/
END:VEVENT
END:VCALENDAR